BEGIN:VCALENDAR
VERSION:2.0
PRODID:-//Marble Mountain Resort - ECPv6.15.20//NONSGML v1.0//EN
CALSCALE:GREGORIAN
METHOD:PUBLISH
X-WR-CALNAME:Marble Mountain Resort
X-ORIGINAL-URL:https://skimarble.com
X-WR-CALDESC:Events for Marble Mountain Resort
REFRESH-INTERVAL;VALUE=DURATION:PT1H
X-Robots-Tag:noindex
X-PUBLISHED-TTL:PT1H
BEGIN:VTIMEZONE
TZID:America/St_Johns
BEGIN:DAYLIGHT
TZOFFSETFROM:-0330
TZOFFSETTO:-0230
TZNAME:NDT
DTSTART:20230312T053000
END:DAYLIGHT
BEGIN:STANDARD
TZOFFSETFROM:-0230
TZOFFSETTO:-0330
TZNAME:NST
DTSTART:20231105T043000
END:STANDARD
BEGIN:DAYLIGHT
TZOFFSETFROM:-0330
TZOFFSETTO:-0230
TZNAME:NDT
DTSTART:20240310T053000
END:DAYLIGHT
BEGIN:STANDARD
TZOFFSETFROM:-0230
TZOFFSETTO:-0330
TZNAME:NST
DTSTART:20241103T043000
END:STANDARD
BEGIN:DAYLIGHT
TZOFFSETFROM:-0330
TZOFFSETTO:-0230
TZNAME:NDT
DTSTART:20250309T053000
END:DAYLIGHT
BEGIN:STANDARD
TZOFFSETFROM:-0230
TZOFFSETTO:-0330
TZNAME:NST
DTSTART:20251102T043000
END:STANDARD
END:VTIMEZONE
BEGIN:VEVENT
DTSTART;TZID=America/St_Johns:20240315T173000
DTEND;TZID=America/St_Johns:20240315T213000
DTSTAMP:20260420T134801
CREATED:20240207T153941Z
LAST-MODIFIED:20240207T154006Z
UID:10000011-1710523800-1710538200@skimarble.com
SUMMARY:Night Skiing
DESCRIPTION:Experience the Alan Jackson Experience at Marble Mountain’s Knotty Pine Lounge on May 25th\, performed by ISSA entertainer of the year\, Aaron Halliday. Doors open at 6 PM and the show kicks off at 7 PM. This 19+ event\, is brought to you by Due South Production\, promising an unforgettable evening of country music!\n\n\nGrab your tickets online now!\n								\n				\n				\n				\n					\n	Buy Tickets
URL:https://skimarble.com/event/night-skiing/2024-03-15/
CATEGORIES:Night Skiing
ATTACH;FMTTYPE=image/jpeg:https://skimarble.com/wp-content/uploads/2024/02/mm_nightskiing.jpg
END:VEVENT
BEGIN:VEVENT
DTSTART;TZID=America/St_Johns:20240308T173000
DTEND;TZID=America/St_Johns:20240308T213000
DTSTAMP:20260420T134801
CREATED:20240207T153941Z
LAST-MODIFIED:20240207T154006Z
UID:10000010-1709919000-1709933400@skimarble.com
SUMMARY:Night Skiing
DESCRIPTION:Experience the Alan Jackson Experience at Marble Mountain’s Knotty Pine Lounge on May 25th\, performed by ISSA entertainer of the year\, Aaron Halliday. Doors open at 6 PM and the show kicks off at 7 PM. This 19+ event\, is brought to you by Due South Production\, promising an unforgettable evening of country music!\n\n\nGrab your tickets online now!\n								\n				\n				\n				\n					\n	Buy Tickets
URL:https://skimarble.com/event/night-skiing/2024-03-08/
CATEGORIES:Night Skiing
ATTACH;FMTTYPE=image/jpeg:https://skimarble.com/wp-content/uploads/2024/02/mm_nightskiing.jpg
END:VEVENT
BEGIN:VEVENT
DTSTART;TZID=America/St_Johns:20240301T173000
DTEND;TZID=America/St_Johns:20240301T213000
DTSTAMP:20260420T134801
CREATED:20240207T153941Z
LAST-MODIFIED:20240207T154006Z
UID:10000009-1709314200-1709328600@skimarble.com
SUMMARY:Night Skiing
DESCRIPTION:Experience the Alan Jackson Experience at Marble Mountain’s Knotty Pine Lounge on May 25th\, performed by ISSA entertainer of the year\, Aaron Halliday. Doors open at 6 PM and the show kicks off at 7 PM. This 19+ event\, is brought to you by Due South Production\, promising an unforgettable evening of country music!\n\n\nGrab your tickets online now!\n								\n				\n				\n				\n					\n	Buy Tickets
URL:https://skimarble.com/event/night-skiing/2024-03-01/
CATEGORIES:Night Skiing
ATTACH;FMTTYPE=image/jpeg:https://skimarble.com/wp-content/uploads/2024/02/mm_nightskiing.jpg
END:VEVENT
BEGIN:VEVENT
DTSTART;TZID=America/St_Johns:20240224T210000
DTEND;TZID=America/St_Johns:20240225T010000
DTSTAMP:20260420T134801
CREATED:20240116T171935Z
LAST-MODIFIED:20240116T174400Z
UID:10000002-1708808400-1708822800@skimarble.com
SUMMARY:Winter Carnival Dance
DESCRIPTION:Experience the Alan Jackson Experience at Marble Mountain’s Knotty Pine Lounge on May 25th\, performed by ISSA entertainer of the year\, Aaron Halliday. Doors open at 6 PM and the show kicks off at 7 PM. This 19+ event\, is brought to you by Due South Production\, promising an unforgettable evening of country music!\n\n\nGrab your tickets online now!\n								\n				\n				\n				\n					\n	Buy Tickets
URL:https://skimarble.com/event/winter-carnival-dance/
LOCATION:Marble Mountain\, 2 Marble Dr.\, Steady Brook\, Newfoundland and Labrador\, Steady Brook\, Canada
CATEGORIES:Live Music
ATTACH;FMTTYPE=image/jpeg:https://skimarble.com/wp-content/uploads/2024/01/418468120_810776991093242_7945759046259937382_n.jpg
ORGANIZER;CN="Marble Mountain":MAILTO:admin@skimarble.com
END:VEVENT
BEGIN:VEVENT
DTSTART;TZID=America/St_Johns:20240223T173000
DTEND;TZID=America/St_Johns:20240223T213000
DTSTAMP:20260420T134801
CREATED:20240207T153941Z
LAST-MODIFIED:20240207T154006Z
UID:10000008-1708709400-1708723800@skimarble.com
SUMMARY:Night Skiing
DESCRIPTION:Experience the Alan Jackson Experience at Marble Mountain’s Knotty Pine Lounge on May 25th\, performed by ISSA entertainer of the year\, Aaron Halliday. Doors open at 6 PM and the show kicks off at 7 PM. This 19+ event\, is brought to you by Due South Production\, promising an unforgettable evening of country music!\n\n\nGrab your tickets online now!\n								\n				\n				\n				\n					\n	Buy Tickets
URL:https://skimarble.com/event/night-skiing/2024-02-23/
CATEGORIES:Night Skiing
ATTACH;FMTTYPE=image/jpeg:https://skimarble.com/wp-content/uploads/2024/02/mm_nightskiing.jpg
END:VEVENT
BEGIN:VEVENT
DTSTART;TZID=America/St_Johns:20240218T210000
DTEND;TZID=America/St_Johns:20240218T230000
DTSTAMP:20260420T134801
CREATED:20240207T153647Z
LAST-MODIFIED:20240207T164732Z
UID:10000005-1708290000-1708297200@skimarble.com
SUMMARY:Jibfest - Laugh It Off Comedy Show
DESCRIPTION:Experience the Alan Jackson Experience at Marble Mountain’s Knotty Pine Lounge on May 25th\, performed by ISSA entertainer of the year\, Aaron Halliday. Doors open at 6 PM and the show kicks off at 7 PM. This 19+ event\, is brought to you by Due South Production\, promising an unforgettable evening of country music!\n\n\nGrab your tickets online now!\n								\n				\n				\n				\n					\n	Buy Tickets
URL:https://skimarble.com/event/jibfest-laugh-it-off-comedy-show/
CATEGORIES:Jibfest,Live Music
ATTACH;FMTTYPE=image/jpeg:https://skimarble.com/wp-content/uploads/2024/02/mm_jibfestfeb16.jpg
END:VEVENT
BEGIN:VEVENT
DTSTART;TZID=America/St_Johns:20240217T220000
DTEND;TZID=America/St_Johns:20240218T020000
DTSTAMP:20260420T134801
CREATED:20240207T153325Z
LAST-MODIFIED:20240207T163240Z
UID:10000004-1708207200-1708221600@skimarble.com
SUMMARY:Jibfest - Tyr One
DESCRIPTION:Experience the Alan Jackson Experience at Marble Mountain’s Knotty Pine Lounge on May 25th\, performed by ISSA entertainer of the year\, Aaron Halliday. Doors open at 6 PM and the show kicks off at 7 PM. This 19+ event\, is brought to you by Due South Production\, promising an unforgettable evening of country music!\n\n\nGrab your tickets online now!\n								\n				\n				\n				\n					\n	Buy Tickets
URL:https://skimarble.com/event/jibfest-tyr-one/
CATEGORIES:Jibfest,Live Music
ATTACH;FMTTYPE=image/jpeg:https://skimarble.com/wp-content/uploads/2024/02/mm_jibfestfeb17.jpg
END:VEVENT
BEGIN:VEVENT
DTSTART;TZID=America/St_Johns:20240216T173000
DTEND;TZID=America/St_Johns:20240216T213000
DTSTAMP:20260420T134801
CREATED:20240207T153941Z
LAST-MODIFIED:20240207T154006Z
UID:10000007-1708104600-1708119000@skimarble.com
SUMMARY:Night Skiing
DESCRIPTION:Experience the Alan Jackson Experience at Marble Mountain’s Knotty Pine Lounge on May 25th\, performed by ISSA entertainer of the year\, Aaron Halliday. Doors open at 6 PM and the show kicks off at 7 PM. This 19+ event\, is brought to you by Due South Production\, promising an unforgettable evening of country music!\n\n\nGrab your tickets online now!\n								\n				\n				\n				\n					\n	Buy Tickets
URL:https://skimarble.com/event/night-skiing/2024-02-16/
CATEGORIES:Night Skiing
ATTACH;FMTTYPE=image/jpeg:https://skimarble.com/wp-content/uploads/2024/02/mm_nightskiing.jpg
END:VEVENT
BEGIN:VEVENT
DTSTART;TZID=America/St_Johns:20240209T173000
DTEND;TZID=America/St_Johns:20240209T213000
DTSTAMP:20260420T134801
CREATED:20240207T153941Z
LAST-MODIFIED:20240207T154006Z
UID:10000006-1707499800-1707514200@skimarble.com
SUMMARY:Night Skiing
DESCRIPTION:Experience the Alan Jackson Experience at Marble Mountain’s Knotty Pine Lounge on May 25th\, performed by ISSA entertainer of the year\, Aaron Halliday. Doors open at 6 PM and the show kicks off at 7 PM. This 19+ event\, is brought to you by Due South Production\, promising an unforgettable evening of country music!\n\n\nGrab your tickets online now!\n								\n				\n				\n				\n					\n	Buy Tickets
URL:https://skimarble.com/event/night-skiing/2024-02-09/
CATEGORIES:Night Skiing
ATTACH;FMTTYPE=image/jpeg:https://skimarble.com/wp-content/uploads/2024/02/mm_nightskiing.jpg
END:VEVENT
END:VCALENDAR